BEGIN:VCALENDAR
VERSION:2.0
PRODID:-//J.V.Hilliard - ECPv6.3.3.1//NONSGML v1.0//EN
CALSCALE:GREGORIAN
METHOD:PUBLISH
X-WR-CALNAME:J.V.Hilliard
X-ORIGINAL-URL:https://jvhilliard.com
X-WR-CALDESC:Events for J.V.Hilliard
REFRESH-INTERVAL;VALUE=DURATION:PT1H
X-Robots-Tag:noindex
X-PUBLISHED-TTL:PT1H
BEGIN:VTIMEZONE
TZID:UTC
BEGIN:STANDARD
TZOFFSETFROM:+0000
TZOFFSETTO:+0000
TZNAME:UTC
DTSTART:20220101T000000
END:STANDARD
END:VTIMEZONE
BEGIN:VEVENT
DTSTART;VALUE=DATE:20240726
DTEND;VALUE=DATE:20240727
DTSTAMP:20260423T221053
CREATED:20240726T012627Z
LAST-MODIFIED:20240726T012627Z
UID:10000263-1721952000-1722038399@jvhilliard.com
SUMMARY:Echoes of Ghostwood (Book Four of the Warminster Series) Official Trailer
DESCRIPTION:Watch here.
URL:https://jvhilliard.com/calendar/echoes-of-ghostwood-book-four-of-the-warminster-series-official-trailer/
LOCATION:YouTube
CATEGORIES:Trailers
END:VEVENT
BEGIN:VEVENT
DTSTART;TZID=UTC:20230811T080000
DTEND;TZID=UTC:20230811T170000
DTSTAMP:20260423T221053
CREATED:20240331T120228Z
LAST-MODIFIED:20240331T120228Z
UID:10000071-1691740800-1691773200@jvhilliard.com
SUMMARY:The Trillias Gambit (Book Three of the Warminster Series) Official Trailer
DESCRIPTION:
URL:https://jvhilliard.com/calendar/the-trillias-gambit-book-three-of-the-warminster-series-official-trailer/
CATEGORIES:Trailers
END:VEVENT
BEGIN:VEVENT
DTSTART;VALUE=DATE:20221003
DTEND;VALUE=DATE:20221004
DTSTAMP:20260423T221053
CREATED:20240331T135110Z
LAST-MODIFIED:20240331T135110Z
UID:10000157-1664755200-1664841599@jvhilliard.com
SUMMARY:The Last Keeper Promotional Video
DESCRIPTION:by Dave Prokopec
URL:https://jvhilliard.com/calendar/the-last-keeper-promotional-video/
CATEGORIES:Trailers
END:VEVENT
END:VCALENDAR