BEGIN:VCALENDAR
VERSION:2.0
PRODID:-//J.V.Hilliard - ECPv6.3.3.1//NONSGML v1.0//EN
CALSCALE:GREGORIAN
METHOD:PUBLISH
X-ORIGINAL-URL:https://jvhilliard.com
X-WR-CALDESC:Events for J.V.Hilliard
REFRESH-INTERVAL;VALUE=DURATION:PT1H
X-Robots-Tag:noindex
X-PUBLISHED-TTL:PT1H
BEGIN:VTIMEZONE
TZID:UTC
BEGIN:STANDARD
TZOFFSETFROM:+0000
TZOFFSETTO:+0000
TZNAME:UTC
DTSTART:20230101T000000
END:STANDARD
END:VTIMEZONE
BEGIN:VEVENT
DTSTART;VALUE=DATE:20230224
DTEND;VALUE=DATE:20230225
DTSTAMP:20260421T190013
CREATED:20240331T131311Z
LAST-MODIFIED:20240331T131311Z
UID:10000127-1677196800-1677283199@jvhilliard.com
SUMMARY:The Realm 118: Katharine Wibell
DESCRIPTION:The Realm 118: Katharine Wibell from J.V. Hilliard on Vimeo.
URL:https://jvhilliard.com/calendar/the-realm-118-katharine-wibell/
CATEGORIES:The Realm
END:VEVENT
END:VCALENDAR