BEGIN:VCALENDAR
VERSION:2.0
PRODID:-//J.V.Hilliard - ECPv6.3.3.1//NONSGML v1.0//EN
CALSCALE:GREGORIAN
METHOD:PUBLISH
X-ORIGINAL-URL:https://jvhilliard.com
X-WR-CALDESC:Events for J.V.Hilliard
REFRESH-INTERVAL;VALUE=DURATION:PT1H
X-Robots-Tag:noindex
X-PUBLISHED-TTL:PT1H
BEGIN:VTIMEZONE
TZID:UTC
BEGIN:STANDARD
TZOFFSETFROM:+0000
TZOFFSETTO:+0000
TZNAME:UTC
DTSTART:20230101T000000
END:STANDARD
END:VTIMEZONE
BEGIN:VEVENT
DTSTART;VALUE=DATE:20230111
DTEND;VALUE=DATE:20230112
DTSTAMP:20260421T204558
CREATED:20240331T132646Z
LAST-MODIFIED:20240331T132714Z
UID:10000135-1673395200-1673481599@jvhilliard.com
SUMMARY:The Realm - Episode 117 w/ Todd Waites
DESCRIPTION:The narrator and voice over specialist discusses The Warminster Series \n﻿
URL:https://jvhilliard.com/calendar/the-realm-episode-117-w-todd-waites/
CATEGORIES:The Realm
END:VEVENT
BEGIN:VEVENT
DTSTART;VALUE=DATE:20230111
DTEND;VALUE=DATE:20230112
DTSTAMP:20260421T204558
CREATED:20240331T132820Z
LAST-MODIFIED:20240331T132820Z
UID:10000136-1673395200-1673481599@jvhilliard.com
SUMMARY:The Realm - Episode 116 w/ Dave Prokopec
DESCRIPTION:The cinematographer joins Joe for a chat about pop culture
URL:https://jvhilliard.com/calendar/the-realm-episode-116-w-dave-prokopec/
CATEGORIES:The Realm
END:VEVENT
END:VCALENDAR