BEGIN:VCALENDAR
VERSION:2.0
PRODID:-//J.V.Hilliard - ECPv6.3.3.1//NONSGML v1.0//EN
CALSCALE:GREGORIAN
METHOD:PUBLISH
X-ORIGINAL-URL:https://jvhilliard.com
X-WR-CALDESC:Events for J.V.Hilliard
REFRESH-INTERVAL;VALUE=DURATION:PT1H
X-Robots-Tag:noindex
X-PUBLISHED-TTL:PT1H
BEGIN:VTIMEZONE
TZID:UTC
BEGIN:STANDARD
TZOFFSETFROM:+0000
TZOFFSETTO:+0000
TZNAME:UTC
DTSTART:20220101T000000
END:STANDARD
END:VTIMEZONE
BEGIN:VEVENT
DTSTART;VALUE=DATE:20221116
DTEND;VALUE=DATE:20221117
DTSTAMP:20260422T001048
CREATED:20240331T133846Z
LAST-MODIFIED:20240331T133846Z
UID:10000142-1668556800-1668643199@jvhilliard.com
SUMMARY:The Realm - Episode 115 w/ Tyler Brooke
DESCRIPTION:J.V. Hilliard chats w/ Tyler Brooke\, of Geek Talk with Tyler
URL:https://jvhilliard.com/calendar/the-realm-episode-115-w-tyler-brooke/
CATEGORIES:The Realm
END:VEVENT
END:VCALENDAR