BEGIN:VCALENDAR
VERSION:2.0
PRODID:-//J.V.Hilliard - ECPv6.3.3.1//NONSGML v1.0//EN
CALSCALE:GREGORIAN
METHOD:PUBLISH
X-WR-CALNAME:J.V.Hilliard
X-ORIGINAL-URL:https://jvhilliard.com
X-WR-CALDESC:Events for J.V.Hilliard
REFRESH-INTERVAL;VALUE=DURATION:PT1H
X-Robots-Tag:noindex
X-PUBLISHED-TTL:PT1H
BEGIN:VTIMEZONE
TZID:UTC
BEGIN:STANDARD
TZOFFSETFROM:+0000
TZOFFSETTO:+0000
TZNAME:UTC
DTSTART:20220101T000000
END:STANDARD
END:VTIMEZONE
BEGIN:VEVENT
DTSTART;VALUE=DATE:20220707
DTEND;VALUE=DATE:20220708
DTSTAMP:20260422T045514
CREATED:20240331T140331Z
LAST-MODIFIED:20240331T140331Z
UID:10000174-1657152000-1657238399@jvhilliard.com
SUMMARY:The Realm - Episode 108 w/ Dane Cobain
DESCRIPTION:A weekly series bringing you news\, events\, and special guests \n 
URL:https://jvhilliard.com/calendar/the-realm-episode-108-w-dane-cobain/
CATEGORIES:The Realm
END:VEVENT
BEGIN:VEVENT
DTSTART;VALUE=DATE:20220714
DTEND;VALUE=DATE:20220715
DTSTAMP:20260422T045514
CREATED:20240331T140053Z
LAST-MODIFIED:20240331T140053Z
UID:10000170-1657756800-1657843199@jvhilliard.com
SUMMARY:A peek behind the scenes...
DESCRIPTION:Light Raider Pictures \n \nLast Keeper – Behind The Scenes from J.V. Hilliard on Vimeo.
URL:https://jvhilliard.com/calendar/a-peek-behind-the-scenes/
CATEGORIES:The Realm
END:VEVENT
BEGIN:VEVENT
DTSTART;VALUE=DATE:20220715
DTEND;VALUE=DATE:20220716
DTSTAMP:20260422T045514
CREATED:20240331T140008Z
LAST-MODIFIED:20240331T140008Z
UID:10000169-1657843200-1657929599@jvhilliard.com
SUMMARY:The Realm - Episode 109 w/ PD Alleva
DESCRIPTION:Alternative fiction author PD Alleva talks about vampires\, aliens\, and dystopian novels.
URL:https://jvhilliard.com/calendar/the-realm-episode-109-w-pd-alleva/
CATEGORIES:The Realm
END:VEVENT
BEGIN:VEVENT
DTSTART;VALUE=DATE:20220718
DTEND;VALUE=DATE:20220719
DTSTAMP:20260422T045514
CREATED:20240331T135935Z
LAST-MODIFIED:20240331T135935Z
UID:10000168-1658102400-1658188799@jvhilliard.com
SUMMARY:The Realm - Episode 110 w/ Allison Ivy
DESCRIPTION:Friend and writer Allison Ivy talks about the pros and cons of being an independent author
URL:https://jvhilliard.com/calendar/the-realm-episode-110-w-allison-ivy/
CATEGORIES:The Realm
END:VEVENT
BEGIN:VEVENT
DTSTART;VALUE=DATE:20220721
DTEND;VALUE=DATE:20220722
DTSTAMP:20260422T045514
CREATED:20240331T135900Z
LAST-MODIFIED:20240331T135900Z
UID:10000167-1658361600-1658447999@jvhilliard.com
SUMMARY:The Realm - Episode 111 w/ Luke A. Bruss
DESCRIPTION:The designer & developer enters The Realm to discuss Beowulf\, comic books\, his work with Joe and more.
URL:https://jvhilliard.com/calendar/the-realm-episode-111-w-luke-a-bruss/
CATEGORIES:The Realm
END:VEVENT
END:VCALENDAR