BEGIN:VCALENDAR
VERSION:2.0
PRODID:-//J.V.Hilliard - ECPv6.3.3.1//NONSGML v1.0//EN
CALSCALE:GREGORIAN
METHOD:PUBLISH
X-ORIGINAL-URL:https://jvhilliard.com
X-WR-CALDESC:Events for J.V.Hilliard
REFRESH-INTERVAL;VALUE=DURATION:PT1H
X-Robots-Tag:noindex
X-PUBLISHED-TTL:PT1H
BEGIN:VTIMEZONE
TZID:UTC
BEGIN:STANDARD
TZOFFSETFROM:+0000
TZOFFSETTO:+0000
TZNAME:UTC
DTSTART:20220101T000000
END:STANDARD
END:VTIMEZONE
BEGIN:VEVENT
DTSTART;VALUE=DATE:20220601
DTEND;VALUE=DATE:20220602
DTSTAMP:20260421T154243
CREATED:20240331T152050Z
LAST-MODIFIED:20240331T152148Z
UID:10000184-1654041600-1654127999@jvhilliard.com
SUMMARY:The Last Keeper Book Review Blog Tour: Day Three
DESCRIPTION:@bookdragonstbr on Instagram
URL:https://jvhilliard.com/calendar/the-last-keeper-book-review-blog-tour-day-four-2/
CATEGORIES:Reviews
END:VEVENT
BEGIN:VEVENT
DTSTART;VALUE=DATE:20220531
DTEND;VALUE=DATE:20220601
DTSTAMP:20260421T154243
CREATED:20240331T152205Z
LAST-MODIFIED:20240331T152205Z
UID:10000185-1653955200-1654041599@jvhilliard.com
SUMMARY:The Last Keeper Book Review Blog Tour: Day Two
DESCRIPTION:Brenda Marie (@chaoshappinessbookmama)
URL:https://jvhilliard.com/calendar/the-last-keeper-book-review-blog-tour-day-two/
CATEGORIES:Reviews
END:VEVENT
BEGIN:VEVENT
DTSTART;VALUE=DATE:20220530
DTEND;VALUE=DATE:20220531
DTSTAMP:20260421T154243
CREATED:20240331T152225Z
LAST-MODIFIED:20240331T152225Z
UID:10000186-1653868800-1653955199@jvhilliard.com
SUMMARY:The Last Keeper Book Review Blog Tour: Day One
DESCRIPTION:Star’s Book & Tea
URL:https://jvhilliard.com/calendar/the-last-keeper-book-review-blog-tour-day-one/
CATEGORIES:Reviews
END:VEVENT
BEGIN:VEVENT
DTSTART;VALUE=DATE:20220503
DTEND;VALUE=DATE:20220504
DTSTAMP:20260421T154243
CREATED:20240331T152907Z
LAST-MODIFIED:20240331T152907Z
UID:10000196-1651536000-1651622399@jvhilliard.com
SUMMARY:Felicity Grace Terry reviews The Last Keeper
DESCRIPTION:Pen & Paper
URL:https://jvhilliard.com/calendar/felicity-grace-terry-reviews-the-last-keeper/
CATEGORIES:Reviews
END:VEVENT
BEGIN:VEVENT
DTSTART;VALUE=DATE:20220405
DTEND;VALUE=DATE:20220406
DTSTAMP:20260421T154243
CREATED:20240331T153658Z
LAST-MODIFIED:20240331T153658Z
UID:10000201-1649116800-1649203199@jvhilliard.com
SUMMARY:Liliyana Shadowlyn reviews The Last Keeper
DESCRIPTION:The Faerie Review
URL:https://jvhilliard.com/calendar/liliyana-shadowlyn-reviews-the-last-keeper/
CATEGORIES:Reviews
END:VEVENT
BEGIN:VEVENT
DTSTART;VALUE=DATE:20220324
DTEND;VALUE=DATE:20220325
DTSTAMP:20260421T154243
CREATED:20240331T154122Z
LAST-MODIFIED:20240331T154122Z
UID:10000208-1648080000-1648166399@jvhilliard.com
SUMMARY:Amy Clayton highly recommends The Last Keeper
DESCRIPTION:Amy’s Book Nook
URL:https://jvhilliard.com/calendar/amy-clayton-highly-recommends-the-last-keeper/
CATEGORIES:Reviews
END:VEVENT
BEGIN:VEVENT
DTSTART;VALUE=DATE:20220311
DTEND;VALUE=DATE:20220312
DTSTAMP:20260421T154243
CREATED:20240331T154315Z
LAST-MODIFIED:20240331T154315Z
UID:10000211-1646956800-1647043199@jvhilliard.com
SUMMARY:A review of The Last Keeper by Jenna Rideout
DESCRIPTION:Westveil Publishing
URL:https://jvhilliard.com/calendar/a-review-of-the-last-keeper-by-jenna-rideout/
CATEGORIES:Reviews
END:VEVENT
BEGIN:VEVENT
DTSTART;VALUE=DATE:20220310
DTEND;VALUE=DATE:20220311
DTSTAMP:20260421T154243
CREATED:20240331T154346Z
LAST-MODIFIED:20240331T154346Z
UID:10000212-1646870400-1646956799@jvhilliard.com
SUMMARY:Afreen Khalil reviews The Last Keeper
DESCRIPTION:Inscribed Inklings
URL:https://jvhilliard.com/calendar/afreen-khalil-reviews-the-last-keeper/
CATEGORIES:Reviews
END:VEVENT
BEGIN:VEVENT
DTSTART;VALUE=DATE:20220307
DTEND;VALUE=DATE:20220308
DTSTAMP:20260421T154243
CREATED:20240331T154445Z
LAST-MODIFIED:20240331T154445Z
UID:10000214-1646611200-1646697599@jvhilliard.com
SUMMARY:"The Last Keeper is a riveting epic fantasy novel"
DESCRIPTION:Literary Titan
URL:https://jvhilliard.com/calendar/the-last-keeper-is-a-riveting-epic-fantasy-novel/
CATEGORIES:Reviews
END:VEVENT
BEGIN:VEVENT
DTSTART;VALUE=DATE:20220306
DTEND;VALUE=DATE:20220307
DTSTAMP:20260421T154243
CREATED:20240331T154518Z
LAST-MODIFIED:20240331T154518Z
UID:10000215-1646524800-1646611199@jvhilliard.com
SUMMARY:Book review of The Last Keeper
DESCRIPTION:Stars Uncounted
URL:https://jvhilliard.com/calendar/book-review-of-the-last-keeper/
CATEGORIES:Reviews
END:VEVENT
BEGIN:VEVENT
DTSTART;VALUE=DATE:20220212
DTEND;VALUE=DATE:20220213
DTSTAMP:20260421T154243
CREATED:20240331T155006Z
LAST-MODIFIED:20240331T155006Z
UID:10000222-1644624000-1644710399@jvhilliard.com
SUMMARY:The Last Keeper is "A True Keeper"
DESCRIPTION:Revolutionary Readers
URL:https://jvhilliard.com/calendar/the-last-keeper-is-a-true-keeper/
CATEGORIES:Reviews
END:VEVENT
END:VCALENDAR