BEGIN:VCALENDAR
VERSION:2.0
PRODID:-//J.V.Hilliard - ECPv6.3.3.1//NONSGML v1.0//EN
CALSCALE:GREGORIAN
METHOD:PUBLISH
X-ORIGINAL-URL:https://jvhilliard.com
X-WR-CALDESC:Events for J.V.Hilliard
REFRESH-INTERVAL;VALUE=DURATION:PT1H
X-Robots-Tag:noindex
X-PUBLISHED-TTL:PT1H
BEGIN:VTIMEZONE
TZID:UTC
BEGIN:STANDARD
TZOFFSETFROM:+0000
TZOFFSETTO:+0000
TZNAME:UTC
DTSTART:20230101T000000
END:STANDARD
END:VTIMEZONE
BEGIN:VEVENT
DTSTART;VALUE=DATE:20230323
DTEND;VALUE=DATE:20230324
DTSTAMP:20260422T124242
CREATED:20240331T125755Z
LAST-MODIFIED:20240331T125755Z
UID:10000115-1679529600-1679615999@jvhilliard.com
SUMMARY:{WARMINSTER 2} VORODIN'S LAIR.
DESCRIPTION:
URL:https://jvhilliard.com/calendar/warminster-2-vorodins-lair/
CATEGORIES:Reviews
END:VEVENT
END:VCALENDAR