BEGIN:VCALENDAR
VERSION:2.0
PRODID:-//J.V.Hilliard - ECPv6.3.3.1//NONSGML v1.0//EN
CALSCALE:GREGORIAN
METHOD:PUBLISH
X-WR-CALNAME:J.V.Hilliard
X-ORIGINAL-URL:https://jvhilliard.com
X-WR-CALDESC:Events for J.V.Hilliard
REFRESH-INTERVAL;VALUE=DURATION:PT1H
X-Robots-Tag:noindex
X-PUBLISHED-TTL:PT1H
BEGIN:VTIMEZONE
TZID:UTC
BEGIN:STANDARD
TZOFFSETFROM:+0000
TZOFFSETTO:+0000
TZNAME:UTC
DTSTART:20220101T000000
END:STANDARD
END:VTIMEZONE
BEGIN:VEVENT
DTSTART;VALUE=DATE:20221108
DTEND;VALUE=DATE:20221109
DTSTAMP:20260422T171407
CREATED:20240331T133950Z
LAST-MODIFIED:20240331T133950Z
UID:10000143-1667865600-1667951999@jvhilliard.com
SUMMARY:A review of J.V. Hilliard's latest offering\, Vorodin's Lair
DESCRIPTION:keepitbooked87 on TikTok
URL:https://jvhilliard.com/calendar/a-review-of-j-v-hilliards-latest-offering-vorodins-lair/
CATEGORIES:Reviews
END:VEVENT
BEGIN:VEVENT
DTSTART;VALUE=DATE:20221130
DTEND;VALUE=DATE:20221201
DTSTAMP:20260422T171407
CREATED:20240331T133657Z
LAST-MODIFIED:20240331T133657Z
UID:10000140-1669766400-1669852799@jvhilliard.com
SUMMARY:Vorodin's Lair: Book Two of the Warminster Series
DESCRIPTION:
URL:https://jvhilliard.com/calendar/vorodins-lair-book-two-of-the-warminster-series/
CATEGORIES:Reviews
END:VEVENT
END:VCALENDAR