BEGIN:VCALENDAR
VERSION:2.0
PRODID:-//J.V.Hilliard - ECPv6.3.3.1//NONSGML v1.0//EN
CALSCALE:GREGORIAN
METHOD:PUBLISH
X-ORIGINAL-URL:https://jvhilliard.com
X-WR-CALDESC:Events for J.V.Hilliard
REFRESH-INTERVAL;VALUE=DURATION:PT1H
X-Robots-Tag:noindex
X-PUBLISHED-TTL:PT1H
BEGIN:VTIMEZONE
TZID:UTC
BEGIN:STANDARD
TZOFFSETFROM:+0000
TZOFFSETTO:+0000
TZNAME:UTC
DTSTART:20220101T000000
END:STANDARD
END:VTIMEZONE
BEGIN:VEVENT
DTSTART;VALUE=DATE:20220828
DTEND;VALUE=DATE:20220829
DTSTAMP:20260422T220256
CREATED:20240331T135551Z
LAST-MODIFIED:20240331T135551Z
UID:10000163-1661644800-1661731199@jvhilliard.com
SUMMARY:robinreviews
DESCRIPTION:Quick thoughts on The Last Keeper \n\n @robinsreviews #robinsreview #kipspublishing #booktok #bookworm #bookrecommendations #sciencefiction #fantasy #epicfantasy #epicfantasybooks #fantasybooks #bookrecs #fantasystory #fantasystorybook ♬ She Share Story (for Vlog) – 山口夕依
URL:https://jvhilliard.com/calendar/robinreviews/
CATEGORIES:Reviews
END:VEVENT
END:VCALENDAR