BEGIN:VCALENDAR
VERSION:2.0
PRODID:-//J.V.Hilliard - ECPv6.3.3.1//NONSGML v1.0//EN
CALSCALE:GREGORIAN
METHOD:PUBLISH
X-ORIGINAL-URL:https://jvhilliard.com
X-WR-CALDESC:Events for J.V.Hilliard
REFRESH-INTERVAL;VALUE=DURATION:PT1H
X-Robots-Tag:noindex
X-PUBLISHED-TTL:PT1H
BEGIN:VTIMEZONE
TZID:UTC
BEGIN:STANDARD
TZOFFSETFROM:+0000
TZOFFSETTO:+0000
TZNAME:UTC
DTSTART:20230101T000000
END:STANDARD
END:VTIMEZONE
BEGIN:VEVENT
DTSTART;VALUE=DATE:20240528
DTEND;VALUE=DATE:20240529
DTSTAMP:20260421T135152
CREATED:20240528T170911Z
LAST-MODIFIED:20240528T170911Z
UID:10000251-1716854400-1716940799@jvhilliard.com
SUMMARY:Book Interrupted: Author's Spotlight with J.V. Hilliard
DESCRIPTION:Listen here.
URL:https://jvhilliard.com/calendar/book-interrupted-authors-spotlight-with-j-v-hilliard/
LOCATION:Book Interrupted
CATEGORIES:Interviews,Podcasts,Spotlight
END:VEVENT
BEGIN:VEVENT
DTSTART;VALUE=DATE:20240524
DTEND;VALUE=DATE:20240525
DTSTAMP:20260421T135152
CREATED:20240528T164940Z
LAST-MODIFIED:20240528T164940Z
UID:10000250-1716508800-1716595199@jvhilliard.com
SUMMARY:Page Chewing: Friday Conversation: Ep. 116 - J.V. Hilliard - The Importance of Realism in Fantasy Novels
DESCRIPTION:
URL:https://jvhilliard.com/calendar/page-chewing-friday-conversation-ep-116-j-v-hilliard-the-importance-of-realism-in-fantasy-novels/
LOCATION:Spotify
CATEGORIES:Interviews,Podcasts
END:VEVENT
BEGIN:VEVENT
DTSTART;VALUE=DATE:20240524
DTEND;VALUE=DATE:20240525
DTSTAMP:20260421T135152
CREATED:20240528T164229Z
LAST-MODIFIED:20240528T164229Z
UID:10000249-1716508800-1716595199@jvhilliard.com
SUMMARY:Geeky Gamer Podcast - 023 - J.V. Hilliard Best Selling Author\, Gamer\, Entrepreneur
DESCRIPTION:
URL:https://jvhilliard.com/calendar/geeky-gamer-podcast-023-j-v-hilliard-best-selling-author-gamer-entrepreneur/
LOCATION:Geeky Gamer Podcast
CATEGORIES:Interviews,Podcasts
END:VEVENT
BEGIN:VEVENT
DTSTART;VALUE=DATE:20240523
DTEND;VALUE=DATE:20240524
DTSTAMP:20260421T135152
CREATED:20240528T163615Z
LAST-MODIFIED:20240528T163615Z
UID:10000247-1716422400-1716508799@jvhilliard.com
SUMMARY:The Realm Podcast: Gary Wise
DESCRIPTION:Listen here.
URL:https://jvhilliard.com/calendar/the-realm-podcast-gary-wise/
LOCATION:BlogTalkRadio
CATEGORIES:Podcasts,The Realm
END:VEVENT
BEGIN:VEVENT
DTSTART;VALUE=DATE:20240509
DTEND;VALUE=DATE:20240510
DTSTAMP:20260421T135152
CREATED:20240528T163750Z
LAST-MODIFIED:20240528T163750Z
UID:10000248-1715212800-1715299199@jvhilliard.com
SUMMARY:The Realm Podcast: Patrick LeClerc
DESCRIPTION:Listen here.
URL:https://jvhilliard.com/calendar/the-realm-podcast-patrick-leclerc/
LOCATION:BlogTalkRadio
CATEGORIES:Podcasts,The Realm
END:VEVENT
BEGIN:VEVENT
DTSTART;VALUE=DATE:20240502
DTEND;VALUE=DATE:20240503
DTSTAMP:20260421T135152
CREATED:20240509T031304Z
LAST-MODIFIED:20240509T031304Z
UID:10000243-1714608000-1714694399@jvhilliard.com
SUMMARY:Cast of All Trades: Becoming a Full-Time Fantasy Author with J.V. Hilliard [The Warminster Saga]
DESCRIPTION:
URL:https://jvhilliard.com/calendar/cast-of-all-trades-becoming-a-full-time-fantasy-author-with-j-v-hilliard-the-warminster-saga/
CATEGORIES:Interviews,Podcasts
END:VEVENT
BEGIN:VEVENT
DTSTART;VALUE=DATE:20240419
DTEND;VALUE=DATE:20240420
DTSTAMP:20260421T135152
CREATED:20240420T041831Z
LAST-MODIFIED:20240420T041856Z
UID:10000242-1713484800-1713571199@jvhilliard.com
SUMMARY:The Realm Episode 137: Leanda Michelle
DESCRIPTION:
URL:https://jvhilliard.com/calendar/the-realm-episode-137-leanda-michelle/
CATEGORIES:Podcasts,The Realm
END:VEVENT
BEGIN:VEVENT
DTSTART;VALUE=DATE:20240411
DTEND;VALUE=DATE:20240412
DTSTAMP:20260421T135152
CREATED:20240420T041051Z
LAST-MODIFIED:20240420T041051Z
UID:10000241-1712793600-1712879999@jvhilliard.com
SUMMARY:The Realm Podcast: Melany Banks
DESCRIPTION:
URL:https://jvhilliard.com/calendar/the-realm-podcast-melany-banks/
CATEGORIES:Podcasts,The Realm
END:VEVENT
BEGIN:VEVENT
DTSTART;VALUE=DATE:20240328
DTEND;VALUE=DATE:20240329
DTSTAMP:20260421T135152
CREATED:20240403T170948Z
LAST-MODIFIED:20240403T170948Z
UID:10000237-1711584000-1711670399@jvhilliard.com
SUMMARY:Augmented Myths - JV Hilliard on Bringing Fantasy to Life
DESCRIPTION:
URL:https://jvhilliard.com/calendar/augmented-myths-jv-hilliard-on-bringing-fantasy-to-life/
LOCATION:Apple Podcasts
CATEGORIES:Podcasts
END:VEVENT
BEGIN:VEVENT
DTSTART;VALUE=DATE:20240327
DTEND;VALUE=DATE:20240328
DTSTAMP:20260421T135152
CREATED:20240403T170832Z
LAST-MODIFIED:20240403T170832Z
UID:10000236-1711497600-1711583999@jvhilliard.com
SUMMARY:Writing As A First Time Author | J.V. Hilliard
DESCRIPTION:
URL:https://jvhilliard.com/calendar/writing-as-a-first-time-author-j-v-hilliard/
LOCATION:Apple Podcasts
CATEGORIES:Podcasts
END:VEVENT
BEGIN:VEVENT
DTSTART;VALUE=DATE:20240314
DTEND;VALUE=DATE:20240315
DTSTAMP:20260421T135152
CREATED:20240329T225414Z
LAST-MODIFIED:20240331T122119Z
UID:10000008-1710374400-1710460799@jvhilliard.com
SUMMARY:The Realm Podcast: Nathan Ogloff
DESCRIPTION:
URL:https://jvhilliard.com/calendar/the-realm-podcast-nathan-ogloff/
LOCATION:BlogTalkRadio
CATEGORIES:Podcasts
END:VEVENT
BEGIN:VEVENT
DTSTART;VALUE=DATE:20240314
DTEND;VALUE=DATE:20240315
DTSTAMP:20260421T135152
CREATED:20240329T225141Z
LAST-MODIFIED:20240331T122146Z
UID:10000007-1710374400-1710460799@jvhilliard.com
SUMMARY:Journey to Warminster
DESCRIPTION:
URL:https://jvhilliard.com/calendar/journey-to-warminster/
CATEGORIES:Podcasts
END:VEVENT
BEGIN:VEVENT
DTSTART;VALUE=DATE:20240307
DTEND;VALUE=DATE:20240308
DTSTAMP:20260421T135152
CREATED:20240403T170644Z
LAST-MODIFIED:20240403T170644Z
UID:10000235-1709769600-1709855999@jvhilliard.com
SUMMARY:Unveiling the World of Fantasy: Inside the Creative Journey of JV Hilliard
DESCRIPTION:
URL:https://jvhilliard.com/calendar/unveiling-the-world-of-fantasy-inside-the-creative-journey-of-jv-hilliard/
LOCATION:Spotify
CATEGORIES:Interviews,Podcasts
END:VEVENT
BEGIN:VEVENT
DTSTART;VALUE=DATE:20240306
DTEND;VALUE=DATE:20240307
DTSTAMP:20260421T135152
CREATED:20240329T225455Z
LAST-MODIFIED:20240331T122210Z
UID:10000009-1709683200-1709769599@jvhilliard.com
SUMMARY:The Realm Podcast: Myles Wagner
DESCRIPTION:
URL:https://jvhilliard.com/calendar/the-realm-podcast-myles-wagner/
LOCATION:BlogTalkRadio
CATEGORIES:Podcasts
END:VEVENT
BEGIN:VEVENT
DTSTART;VALUE=DATE:20240226
DTEND;VALUE=DATE:20240227
DTSTAMP:20260421T135152
CREATED:20240329T225924Z
LAST-MODIFIED:20240331T122256Z
UID:10000011-1708905600-1708991999@jvhilliard.com
SUMMARY:AR: The Realm of Warminster
DESCRIPTION:
URL:https://jvhilliard.com/calendar/ar-the-realm-of-warminster/
CATEGORIES:Podcasts
END:VEVENT
BEGIN:VEVENT
DTSTART;VALUE=DATE:20240223
DTEND;VALUE=DATE:20240224
DTSTAMP:20260421T135152
CREATED:20240329T230053Z
LAST-MODIFIED:20240331T122315Z
UID:10000012-1708646400-1708732799@jvhilliard.com
SUMMARY:Romera Records Virtual Cast Episode #74 JV Hilliard
DESCRIPTION:
URL:https://jvhilliard.com/calendar/romera-records-virtual-cast-episode-74-jv-hilliard/
CATEGORIES:Podcasts
END:VEVENT
BEGIN:VEVENT
DTSTART;VALUE=DATE:20240216
DTEND;VALUE=DATE:20240217
DTSTAMP:20260421T135152
CREATED:20240330T002236Z
LAST-MODIFIED:20240331T122401Z
UID:10000014-1708041600-1708127999@jvhilliard.com
SUMMARY:The Run Radio Podcast Guest JV Hilliard
DESCRIPTION:
URL:https://jvhilliard.com/calendar/the-run-radio-podcast-guest-jv-hilliard/
CATEGORIES:Podcasts
END:VEVENT
BEGIN:VEVENT
DTSTART;VALUE=DATE:20240207
DTEND;VALUE=DATE:20240208
DTSTAMP:20260421T135152
CREATED:20240330T002600Z
LAST-MODIFIED:20240331T122425Z
UID:10000016-1707264000-1707350399@jvhilliard.com
SUMMARY:The Realm Podcast: Beth Barany
DESCRIPTION:
URL:https://jvhilliard.com/calendar/the-realm-podcast-beth-barany/
LOCATION:BlogTalkRadio
CATEGORIES:Podcasts,The Realm
END:VEVENT
BEGIN:VEVENT
DTSTART;VALUE=DATE:20240201
DTEND;VALUE=DATE:20240202
DTSTAMP:20260421T135152
CREATED:20240330T002638Z
LAST-MODIFIED:20240331T122442Z
UID:10000017-1706745600-1706831999@jvhilliard.com
SUMMARY:The Realm Podcast: Claudia Blood
DESCRIPTION:
URL:https://jvhilliard.com/calendar/the-realm-podcast-claudia-blood/
LOCATION:BlogTalkRadio
CATEGORIES:Podcasts,The Realm
END:VEVENT
BEGIN:VEVENT
DTSTART;VALUE=DATE:20240125
DTEND;VALUE=DATE:20240126
DTSTAMP:20260421T135152
CREATED:20240330T003417Z
LAST-MODIFIED:20240331T122516Z
UID:10000019-1706140800-1706227199@jvhilliard.com
SUMMARY:The Realm Podcast: The Novel Guys
DESCRIPTION:
URL:https://jvhilliard.com/calendar/the-realm-podcast-the-novel-guys/
LOCATION:BlogTalkRadio
CATEGORIES:Podcasts,The Realm
END:VEVENT
BEGIN:VEVENT
DTSTART;VALUE=DATE:20240118
DTEND;VALUE=DATE:20240119
DTSTAMP:20260421T135152
CREATED:20240330T131146Z
LAST-MODIFIED:20240331T122536Z
UID:10000020-1705536000-1705622399@jvhilliard.com
SUMMARY:The Realm Podcast: Michael Young
DESCRIPTION:
URL:https://jvhilliard.com/calendar/the-realm-podcast-michael-young/
LOCATION:BlogTalkRadio
CATEGORIES:Podcasts
END:VEVENT
BEGIN:VEVENT
DTSTART;VALUE=DATE:20240110
DTEND;VALUE=DATE:20240111
DTSTAMP:20260421T135152
CREATED:20240330T131519Z
LAST-MODIFIED:20240330T131519Z
UID:10000022-1704844800-1704931199@jvhilliard.com
SUMMARY:54: J.V. Hilliard: Journey to Warminster
DESCRIPTION:
URL:https://jvhilliard.com/calendar/54-j-v-hilliard-journey-to-warminster/
CATEGORIES:Podcasts
END:VEVENT
BEGIN:VEVENT
DTSTART;VALUE=DATE:20240104
DTEND;VALUE=DATE:20240105
DTSTAMP:20260421T135152
CREATED:20240330T161321Z
LAST-MODIFIED:20240331T122558Z
UID:10000025-1704326400-1704412799@jvhilliard.com
SUMMARY:The Realm Podcast: Dave Prokopec
DESCRIPTION:
URL:https://jvhilliard.com/calendar/the-realm-podcast-dave-prokopec/
LOCATION:BlogTalkRadio
CATEGORIES:Podcasts,The Realm
END:VEVENT
BEGIN:VEVENT
DTSTART;VALUE=DATE:20231213
DTEND;VALUE=DATE:20231214
DTSTAMP:20260421T135152
CREATED:20240331T111205Z
LAST-MODIFIED:20240331T111205Z
UID:10000029-1702425600-1702511999@jvhilliard.com
SUMMARY:The Realm Podcast: Jeffrey Kippel and Mindy Blackstien
DESCRIPTION:
URL:https://jvhilliard.com/calendar/the-realm-podcast-jeffrey-kippel-and-mindy-blackstien/
LOCATION:BlogTalkRadio
CATEGORIES:Podcasts,The Realm
END:VEVENT
BEGIN:VEVENT
DTSTART;VALUE=DATE:20231206
DTEND;VALUE=DATE:20231207
DTSTAMP:20260421T135152
CREATED:20240331T111503Z
LAST-MODIFIED:20240331T111503Z
UID:10000032-1701820800-1701907199@jvhilliard.com
SUMMARY:The Realm Podcast with Adam G. Fleming
DESCRIPTION:
URL:https://jvhilliard.com/calendar/the-realm-podcast-with-adam-g-fleming/
LOCATION:BlogTalkRadio
CATEGORIES:Podcasts,The Realm
END:VEVENT
BEGIN:VEVENT
DTSTART;VALUE=DATE:20231130
DTEND;VALUE=DATE:20231201
DTSTAMP:20260421T135152
CREATED:20240331T111551Z
LAST-MODIFIED:20240331T111551Z
UID:10000033-1701302400-1701388799@jvhilliard.com
SUMMARY:The Realm Podcast with Cori Wamsley
DESCRIPTION:
URL:https://jvhilliard.com/calendar/the-realm-podcast-with-cori-wamsley/
LOCATION:BlogTalkRadio
CATEGORIES:Podcasts,The Realm
END:VEVENT
BEGIN:VEVENT
DTSTART;VALUE=DATE:20231128
DTEND;VALUE=DATE:20231129
DTSTAMP:20260421T135152
CREATED:20240331T111727Z
LAST-MODIFIED:20240331T111727Z
UID:10000034-1701129600-1701215999@jvhilliard.com
SUMMARY:J.V. Hilliard\, Epic and Dark Fantasy Author
DESCRIPTION:
URL:https://jvhilliard.com/calendar/j-v-hilliard-epic-and-dark-fantasy-author/
CATEGORIES:Podcasts
END:VEVENT
BEGIN:VEVENT
DTSTART;VALUE=DATE:20231115
DTEND;VALUE=DATE:20231116
DTSTAMP:20260421T135152
CREATED:20240331T112135Z
LAST-MODIFIED:20240331T112135Z
UID:10000038-1700006400-1700092799@jvhilliard.com
SUMMARY:The Realm Podcast with USA Today Best-selling Author Ariel Dawn
DESCRIPTION:
URL:https://jvhilliard.com/calendar/the-realm-podcast-with-usa-today-best-selling-author-ariel-dawn/
LOCATION:BlogTalkRadio
CATEGORIES:Podcasts,The Realm
END:VEVENT
BEGIN:VEVENT
DTSTART;VALUE=DATE:20231110
DTEND;VALUE=DATE:20231111
DTSTAMP:20260421T135152
CREATED:20240331T112803Z
LAST-MODIFIED:20240331T112803Z
UID:10000041-1699574400-1699660799@jvhilliard.com
SUMMARY:Comic Crusaders Podcast - JV Hilliard
DESCRIPTION:
URL:https://jvhilliard.com/calendar/comic-crusaders-podcast-jv-hilliard/
CATEGORIES:Podcasts
END:VEVENT
BEGIN:VEVENT
DTSTART;VALUE=DATE:20231106
DTEND;VALUE=DATE:20231107
DTSTAMP:20260421T135152
CREATED:20240331T112946Z
LAST-MODIFIED:20240331T112946Z
UID:10000042-1699228800-1699315199@jvhilliard.com
SUMMARY:Dark Fantasy: JV Hilliard
DESCRIPTION:
URL:https://jvhilliard.com/calendar/dark-fantasy-jv-hilliard/
CATEGORIES:Podcasts
END:VEVENT
END:VCALENDAR