BEGIN:VCALENDAR
VERSION:2.0
PRODID:-//J.V.Hilliard - ECPv6.3.3.1//NONSGML v1.0//EN
CALSCALE:GREGORIAN
METHOD:PUBLISH
X-WR-CALNAME:J.V.Hilliard
X-ORIGINAL-URL:https://jvhilliard.com
X-WR-CALDESC:Events for J.V.Hilliard
REFRESH-INTERVAL;VALUE=DURATION:PT1H
X-Robots-Tag:noindex
X-PUBLISHED-TTL:PT1H
BEGIN:VTIMEZONE
TZID:UTC
BEGIN:STANDARD
TZOFFSETFROM:+0000
TZOFFSETTO:+0000
TZNAME:UTC
DTSTART:20220101T000000
END:STANDARD
TZID:America/New_York
BEGIN:DAYLIGHT
TZOFFSETFROM:-0500
TZOFFSETTO:-0400
TZNAME:EDT
DTSTART:20230312T070000
END:DAYLIGHT
BEGIN:STANDARD
TZOFFSETFROM:-0400
TZOFFSETTO:-0500
TZNAME:EST
DTSTART:20231105T060000
END:STANDARD
END:VTIMEZONE
BEGIN:VEVENT
DTSTART;TZID=UTC:20250405T120000
DTEND;TZID=UTC:20250405T160000
DTSTAMP:20260424T082224
CREATED:20250217T180333Z
LAST-MODIFIED:20250217T180527Z
UID:10000312-1743854400-1743868800@jvhilliard.com
SUMMARY:Spring Local Author Fair
DESCRIPTION:Join Us for the Spring Local Author Fair!\nAre you ready to dive into a world of stories and transformation? The Spring Local Author Fair is here to spark your imagination! Meet 16 talented authors from various genres—romance\, mystery\, fantasy\, self-help\, and more. Discover new books\, get your copies signed\, and enjoy a day of literary delights. Shop local! \nAddress:\nSouth Fayette Municipal Center\n100 Township Drive\, South Fayette\, PA\n(GPS to 323 Hickory Grade Rd.) \nAttending Authors:\nEm S. A’cor\nValentine J. Brkich\nKaren Captline\nSue E. Fattibene\nCathy Greco/Cameo MacPherson\nA.L. Heard\nJ.V. Hilliard\nAllison Ivy\nJoanne Jamis Cain\nLexi Kingston\nJames H. Lewis\nSarah McKnight\nCori Wamsley\nMegan Wollerton\nDana Ziemniak
URL:https://jvhilliard.com/calendar/spring-local-author-fair/
LOCATION:South Fayette Municipal Center
CATEGORIES:Book Signings,Conventions
END:VEVENT
BEGIN:VEVENT
DTSTART;TZID=UTC:20250301T130000
DTEND;TZID=UTC:20250301T150000
DTSTAMP:20260424T082224
CREATED:20250110T193843Z
LAST-MODIFIED:20250110T193843Z
UID:10000304-1740834000-1740841200@jvhilliard.com
SUMMARY:Peters Township Library: Fantasy & Sci-Fi Author Panel
DESCRIPTION:Learn More
URL:https://jvhilliard.com/calendar/peters-township-library-fantasy-sci-fi-author-panel/
LOCATION:Peters Township Library
CATEGORIES:Book Signings
END:VEVENT
BEGIN:VEVENT
DTSTART;TZID=UTC:20241012T110000
DTEND;TZID=UTC:20241012T140000
DTSTAMP:20260424T082224
CREATED:20240721T164046Z
LAST-MODIFIED:20240721T164046Z
UID:10000260-1728730800-1728741600@jvhilliard.com
SUMMARY:Galleria of Mount Lebanon Book Show
DESCRIPTION:
URL:https://jvhilliard.com/calendar/galleria-of-mount-lebanon-book-show/
LOCATION:Galleria of Mt. Lebanon\, 1500 Washington Road\, Pittsburgh\, PA\, 15228\, United States
CATEGORIES:Book Signings
END:VEVENT
BEGIN:VEVENT
DTSTART;TZID=America/New_York:20230723T140000
DTEND;TZID=America/New_York:20230723T150000
DTSTAMP:20260424T082224
CREATED:20240331T121249Z
LAST-MODIFIED:20240331T121249Z
UID:10000081-1690120800-1690124400@jvhilliard.com
SUMMARY:Completely Booked Book Signing in Blue Spruce Shoppes
DESCRIPTION:View the flyer
URL:https://jvhilliard.com/calendar/completely-booked-book-signing-in-blue-spruce-shoppes/
CATEGORIES:Book Signings
END:VEVENT
BEGIN:VEVENT
DTSTART;VALUE=DATE:20230415
DTEND;VALUE=DATE:20230416
DTSTAMP:20260424T082224
CREATED:20240331T125208Z
LAST-MODIFIED:20240331T125224Z
UID:10000110-1681516800-1681603199@jvhilliard.com
SUMMARY:Meet J.V. Hilliard at the Local Author Fair and Book Sale
DESCRIPTION:
URL:https://jvhilliard.com/calendar/meet-j-v-hilliard-at-the-local-author-fair-and-book-sale/
LOCATION:Robinson Township Public Library
CATEGORIES:Book Signings,Conventions
END:VEVENT
BEGIN:VEVENT
DTSTART;VALUE=DATE:20230121
DTEND;VALUE=DATE:20230122
DTSTAMP:20260424T082224
CREATED:20240331T132315Z
LAST-MODIFIED:20240331T132315Z
UID:10000132-1674259200-1674345599@jvhilliard.com
SUMMARY:Author Talk & D&D 101: A workshop with J.V. Hilliard
DESCRIPTION:
URL:https://jvhilliard.com/calendar/author-talk-dd-101-a-workshop-with-j-v-hilliard/
LOCATION:Laughlin Memorial Library
CATEGORIES:Book Signings,Conventions
END:VEVENT
BEGIN:VEVENT
DTSTART;VALUE=DATE:20220506
DTEND;VALUE=DATE:20220507
DTSTAMP:20260424T082224
CREATED:20240331T152642Z
LAST-MODIFIED:20240331T152642Z
UID:10000192-1651795200-1651881599@jvhilliard.com
SUMMARY:An evening with J.V. Hilliard
DESCRIPTION:Riverstone Books\nPittsburgh\, 15217
URL:https://jvhilliard.com/calendar/an-evening-with-j-v-hilliard/
CATEGORIES:Book Signings,Conventions
END:VEVENT
END:VCALENDAR